BEGIN:VCALENDAR
VERSION:2.0
PRODID:-//Deutscher Zentralverein homöopathischer Ärzte e.V. - ECPv6.15.20//NONSGML v1.0//EN
CALSCALE:GREGORIAN
METHOD:PUBLISH
X-ORIGINAL-URL:https://www.dzvhae.de
X-WR-CALDESC:Veranstaltungen für Deutscher Zentralverein homöopathischer Ärzte e.V.
REFRESH-INTERVAL;VALUE=DURATION:PT1H
X-Robots-Tag:noindex
X-PUBLISHED-TTL:PT1H
BEGIN:VTIMEZONE
TZID:Europe/Berlin
BEGIN:DAYLIGHT
TZOFFSETFROM:+0100
TZOFFSETTO:+0200
TZNAME:CEST
DTSTART:20250330T010000
END:DAYLIGHT
BEGIN:STANDARD
TZOFFSETFROM:+0200
TZOFFSETTO:+0100
TZNAME:CET
DTSTART:20251026T010000
END:STANDARD
BEGIN:DAYLIGHT
TZOFFSETFROM:+0100
TZOFFSETTO:+0200
TZNAME:CEST
DTSTART:20260329T010000
END:DAYLIGHT
BEGIN:STANDARD
TZOFFSETFROM:+0200
TZOFFSETTO:+0100
TZNAME:CET
DTSTART:20261025T010000
END:STANDARD
BEGIN:DAYLIGHT
TZOFFSETFROM:+0100
TZOFFSETTO:+0200
TZNAME:CEST
DTSTART:20270328T010000
END:DAYLIGHT
BEGIN:STANDARD
TZOFFSETFROM:+0200
TZOFFSETTO:+0100
TZNAME:CET
DTSTART:20271031T010000
END:STANDARD
END:VTIMEZONE
BEGIN:VEVENT
DTSTART;TZID=Europe/Berlin:20260418T100000
DTEND;TZID=Europe/Berlin:20260419T180000
DTSTAMP:20260420T130752
CREATED:20251218T155331Z
LAST-MODIFIED:20251223T121744Z
UID:10000230-1776506400-1776621600@www.dzvhae.de
SUMMARY:Hybridseminar Niendorf(Ostsee)/online "Pilze in der Homöopathie" mit Dr. Eva Borsche
DESCRIPTION:FlyerEva-Borsche-0426-Niendorf
URL:https://www.dzvhae.de/event/hybridseminar-niendorfostsee-online-pilze-in-der-homoeopathie-mit-dr-eva-borsche/
LOCATION:Haus des Kurgastes\, Niendorf\, Strandstr. 121a\, Niendorf\, 23669
CATEGORIES:Fortbildung hybrid,Fortbildung online,Fortbildung präsenz
ORGANIZER;CN="Ruth Petrasch":MAILTO:ruth.petrasch@web.de
END:VEVENT
END:VCALENDAR