BEGIN:VCALENDAR
VERSION:2.0
PRODID:-//Deutscher Zentralverein homöopathischer Ärzte e.V. - ECPv6.15.20//NONSGML v1.0//EN
CALSCALE:GREGORIAN
METHOD:PUBLISH
X-ORIGINAL-URL:https://www.dzvhae.de
X-WR-CALDESC:Veranstaltungen für Deutscher Zentralverein homöopathischer Ärzte e.V.
REFRESH-INTERVAL;VALUE=DURATION:PT1H
X-Robots-Tag:noindex
X-PUBLISHED-TTL:PT1H
BEGIN:VTIMEZONE
TZID:Europe/Berlin
BEGIN:DAYLIGHT
TZOFFSETFROM:+0100
TZOFFSETTO:+0200
TZNAME:CEST
DTSTART:20240331T010000
END:DAYLIGHT
BEGIN:STANDARD
TZOFFSETFROM:+0200
TZOFFSETTO:+0100
TZNAME:CET
DTSTART:20241027T010000
END:STANDARD
BEGIN:DAYLIGHT
TZOFFSETFROM:+0100
TZOFFSETTO:+0200
TZNAME:CEST
DTSTART:20250330T010000
END:DAYLIGHT
BEGIN:STANDARD
TZOFFSETFROM:+0200
TZOFFSETTO:+0100
TZNAME:CET
DTSTART:20251026T010000
END:STANDARD
BEGIN:DAYLIGHT
TZOFFSETFROM:+0100
TZOFFSETTO:+0200
TZNAME:CEST
DTSTART:20260329T010000
END:DAYLIGHT
BEGIN:STANDARD
TZOFFSETFROM:+0200
TZOFFSETTO:+0100
TZNAME:CET
DTSTART:20261025T010000
END:STANDARD
END:VTIMEZONE
BEGIN:VEVENT
DTSTART;TZID=Europe/Berlin:20250628T130000
DTEND;TZID=Europe/Berlin:20250629T190000
DTSTAMP:20260420T065841
CREATED:20250520T153747Z
LAST-MODIFIED:20250520T153747Z
UID:10000032-1751115600-1751223600@www.dzvhae.de
SUMMARY:Praktische Anwendung der Homöopathie und Verschreibungsstrategien – Ein Webinar von Prof. George Vithoulkas
DESCRIPTION:Thema: Praktische Anwendung der Homöopathie und Verschreibungsstrategien – Ein Webinar von Prof. George Vithoulkas \nLiebe Mediziner\, Homöopathen\, Studierende und Freunde der Homöopathie\, \nWir laden Sie herzlich zu einem außergewöhnlichen Lernerlebnis im Rahmen unserer weltweit anerkannten Webinarreihe „Watch & Learn“ ein\, die sich der Weiterentwicklung der authentischen klassischen Hahnemannschen Homöopathie widmet. \n  \nTermin: 28. und 29. Juni 2025 \nUhrzeit: 13:00–19:00 Uhr deutscher Zeit \nThema: Praktische Anwendung der Homöopathie und Verschreibungsstrategien – Ein Webinar von Prof. George Vithoulkas \nIn dieser 12-stündigen Live-Sitzung vermittelt Prof. George Vithoulkas tiefe Einblicke in die homöopathische Verschreibung\, die auf seiner jahrzehntelangen Erfahrung basieren. Sie haben außerdem die Möglichkeit\, live Fragen zu stellen. \n  \nWarum Sie diese Veranstaltung nicht verpassen sollten: \nPraxisnahes Lernen: Praxisnahe Fälle\, präsentiert von Dr. Atul Jaggi\, Seema Mahesh\, Mahesh Mallappa\, Latika Jaggi und Cristina Horvath. \nDirekte Interaktion: Eine seltene Gelegenheit\, direkt von Prof. George Vithoulkas zu lernen. \nMehrsprachiger Zugang: Live-Übersetzungen in 9 Sprachen – Spanisch\, Portugiesisch\, Rumänisch\, Russisch\, Deutsch\, Bulgarisch\, Türkisch\, Thailändisch und Polnisch. \nGlobale Vernetzung: Werden Sie Teil einer globalen Community von Homöopathen. \nZertifikat: Erhalten Sie eine Teilnahmebescheinigung. \nReservieren Sie noch heute Ihren Platz: https://webinar.vithoulkas.com \nLesen Sie\, was ehemalige Teilnehmer sagen: https://webinar.vithoulkas.com/testimonials/ \nBenötigen Sie Hilfe? Kontaktieren Sie Elina unter webinar@vithoulkas.com \nEarly Bird Registrierung\, bis 2. Juni 2025: \n\n40 € für Studierende der Homöopathie\n80 € für Ärzte und Homöopathen und Laien\n\nAb 2. Juni sind die Gebühren: \n\n60 € für Studierende der Homöopathie\n100 € für Ärzte und Homöopathen und Laien\n\nWir freuen uns darauf\, Sie auf dieser transformativen Lernreise begrüßen zu dürfen! \nHerzliche Grüße\, \nIhr Vithoulkas Webinar-Team
URL:https://www.dzvhae.de/event/praktische-anwendung-der-homoeopathie-und-verschreibungsstrategien-ein-webinar-von-prof-george-vithoulkas/
CATEGORIES:Fortbildung online
ATTACH;FMTTYPE=image/jpeg:https://www.dzvhae.de/neu_2020/wp-content/uploads/2025/03/Beitragsbild_Veranstaltungskalender.jpg
ORGANIZER;CN="International Academy of Classical Homeopathy":MAILTO:academy@vithoulkas.com
LOCATION:https://www.dzvhae.de/event/praktische-anwendung-der-homoeopathie-und-verschreibungsstrategien-ein-webinar-von-prof-george-vithoulkas/
END:VEVENT
END:VCALENDAR