BEGIN:VCALENDAR
VERSION:2.0
PRODID:-//Deutscher Zentralverein homöopathischer Ärzte e.V. - ECPv6.15.20//NONSGML v1.0//EN
CALSCALE:GREGORIAN
METHOD:PUBLISH
X-WR-CALNAME:Deutscher Zentralverein homöopathischer Ärzte e.V.
X-ORIGINAL-URL:https://www.dzvhae.de
X-WR-CALDESC:Veranstaltungen für Deutscher Zentralverein homöopathischer Ärzte e.V.
REFRESH-INTERVAL;VALUE=DURATION:PT1H
X-Robots-Tag:noindex
X-PUBLISHED-TTL:PT1H
BEGIN:VTIMEZONE
TZID:Europe/Berlin
BEGIN:DAYLIGHT
TZOFFSETFROM:+0100
TZOFFSETTO:+0200
TZNAME:CEST
DTSTART:20230326T010000
END:DAYLIGHT
BEGIN:STANDARD
TZOFFSETFROM:+0200
TZOFFSETTO:+0100
TZNAME:CET
DTSTART:20231029T010000
END:STANDARD
BEGIN:DAYLIGHT
TZOFFSETFROM:+0100
TZOFFSETTO:+0200
TZNAME:CEST
DTSTART:20240331T010000
END:DAYLIGHT
BEGIN:STANDARD
TZOFFSETFROM:+0200
TZOFFSETTO:+0100
TZNAME:CET
DTSTART:20241027T010000
END:STANDARD
BEGIN:DAYLIGHT
TZOFFSETFROM:+0100
TZOFFSETTO:+0200
TZNAME:CEST
DTSTART:20250330T010000
END:DAYLIGHT
BEGIN:STANDARD
TZOFFSETFROM:+0200
TZOFFSETTO:+0100
TZNAME:CET
DTSTART:20251026T010000
END:STANDARD
BEGIN:DAYLIGHT
TZOFFSETFROM:+0100
TZOFFSETTO:+0200
TZNAME:CEST
DTSTART:20260329T010000
END:DAYLIGHT
BEGIN:STANDARD
TZOFFSETFROM:+0200
TZOFFSETTO:+0100
TZNAME:CET
DTSTART:20261025T010000
END:STANDARD
BEGIN:DAYLIGHT
TZOFFSETFROM:+0100
TZOFFSETTO:+0200
TZNAME:CEST
DTSTART:20270328T010000
END:DAYLIGHT
BEGIN:STANDARD
TZOFFSETFROM:+0200
TZOFFSETTO:+0100
TZNAME:CET
DTSTART:20271031T010000
END:STANDARD
BEGIN:DAYLIGHT
TZOFFSETFROM:+0100
TZOFFSETTO:+0200
TZNAME:CEST
DTSTART:20280326T010000
END:DAYLIGHT
BEGIN:STANDARD
TZOFFSETFROM:+0200
TZOFFSETTO:+0100
TZNAME:CET
DTSTART:20281029T010000
END:STANDARD
BEGIN:DAYLIGHT
TZOFFSETFROM:+0100
TZOFFSETTO:+0200
TZNAME:CEST
DTSTART:20290325T010000
END:DAYLIGHT
BEGIN:STANDARD
TZOFFSETFROM:+0200
TZOFFSETTO:+0100
TZNAME:CET
DTSTART:20291028T010000
END:STANDARD
BEGIN:DAYLIGHT
TZOFFSETFROM:+0100
TZOFFSETTO:+0200
TZNAME:CEST
DTSTART:20300331T010000
END:DAYLIGHT
BEGIN:STANDARD
TZOFFSETFROM:+0200
TZOFFSETTO:+0100
TZNAME:CET
DTSTART:20301027T010000
END:STANDARD
BEGIN:DAYLIGHT
TZOFFSETFROM:+0100
TZOFFSETTO:+0200
TZNAME:CEST
DTSTART:20310330T010000
END:DAYLIGHT
BEGIN:STANDARD
TZOFFSETFROM:+0200
TZOFFSETTO:+0100
TZNAME:CET
DTSTART:20311026T010000
END:STANDARD
END:VTIMEZONE
BEGIN:VEVENT
DTSTART;TZID=Europe/Berlin:20240101T090000
DTEND;TZID=Europe/Berlin:20300317T170000
DTSTAMP:20260424T012241
CREATED:20250828T065929Z
LAST-MODIFIED:20250929T084903Z
UID:10000086-1704099600-1899997200@www.dzvhae.de
SUMMARY:Fallseminare/ Supervision Homöopathie
DESCRIPTION:Anschreiben TN Termine 2024 und 2025 \n  \nWeiterbildungskurs Fallseminare und  \nSupervision Köln \n\nDie Termine werden vom DZVhÄ für die Erstausstellung und für die Erneuerung des Homöopathie- Diploms anerkannt.\n Einzeltermine sind ebenso buchbar\n\nTermine: Samstags von 09:00 bis 17:00 Uhr \n(je 8 Unterrichtsstunden = Diplompunkte) \n  \nBitte beachten Sie\, dass die Fallseminare online oder in Präsenz stattfinden können. Die Veranstalterin informiert im Vorfeld alle Teilnehmenden über den Veranstaltungsort zum jeweiligen Termin per Mail. Eine vorherige Anmeldung ist deswegen erforderlich.\n \nDie Termine finden Sie im Flyer zum Download. \nNähere Informationen erhalten Sie bei der Veranstalterin Frau Anne Rütten. \nKontakt:\nAnne Rütten\nWeststraße 99\n52134 Herzogenrath\n02407-6735\nanne.m.ruetten@web.de
URL:https://www.dzvhae.de/event/fallseminare-supervision-homoeopathie/
LOCATION:Online Supervision Anne- M. Rütten\, Weststraße 99\, Herzogenrath\, Nordrhein-Westfalen\, 52134
CATEGORIES:Fallseminar hybrid,Fallseminar online,Fallseminar präsenz,Supervision
END:VEVENT
BEGIN:VEVENT
DTSTART;TZID=Europe/Berlin:20250927T100000
DTEND;TZID=Europe/Berlin:20280205T180000
DTSTAMP:20260424T012241
CREATED:20250522T171129Z
LAST-MODIFIED:20250929T083633Z
UID:10000051-1758967200-1833386400@www.dzvhae.de
SUMMARY:Drei Jahres Kurs Homöopathie -3000 Stunden Fallseminare ab 2025
DESCRIPTION:Flyer DJK ab Herbst 2025 \nneuer Drei Jahres Kurs beim BVhÄ ab Herbst 2025  – jeweils 5 WE pro Ausbildungsjahr ( genaue Termine werden noch bekanntgegeben)
URL:https://www.dzvhae.de/event/drei-jahres-kurs-homoeopathie-3000-stunden-fallseminare-ab-2025/
LOCATION:Berliner Verein homöopathischer Ärzte e.V.\, Nassauische Straße 2\, Berlin\, Berlin\, 10717\, Germany
ATTACH;FMTTYPE=image/jpeg:https://www.dzvhae.de/neu_2020/wp-content/uploads/2025/03/Beitragsbild_Veranstaltungskalender.jpg
ORGANIZER;CN="Berliner Verein homopathischer %C3%84rzte e.V.":MAILTO:veranstaltungen@bvhae.de
END:VEVENT
BEGIN:VEVENT
DTSTART;TZID=Europe/Berlin:20251128T140000
DTEND;TZID=Europe/Berlin:20260711T200000
DTSTAMP:20260424T012241
CREATED:20250903T063819Z
LAST-MODIFIED:20250925T122156Z
UID:10000122-1764338400-1783800000@www.dzvhae.de
SUMMARY:Curriculare Fortbildung Homöopathie für Ärztinnen und Ärzte
DESCRIPTION:Flyer zum Download: \nFlyer_Curriculum_2025 \nDas Fortbildungscurriculum „Homöopathie“ der ÄKWL wurde gemeinsam mit dem Berufsverband homöopathischer Ärzte in NRW e. V.\, dem Deutschen Zentralverein homöopathischer Ärzte e. V. sowie im Bereich der Homöopathie engagierten Ärztinnen und Ärzten entwickelt. Das Fortbildungscurriculum vermittelt die theoretischen und praktischen Grundlagen zur Behandlung mit homöopathischen Arzneimitteln\, die aufgrund individueller Krankheitszeichen als Einzelmittel nach dem Ähnlichkeitsprinzip angewendet werden.\nDie Inhalte werden in Form von Blended-Learning vermittelt\, wobei sich Phasen in physischer Präsenz und Phasen virtueller Präsenz (Webinar) abwechseln. eLearning-Phasen zum online-gestützten Selbststudium bereiten jeweils darauf vor. \nTermine für das Curriculum und weitere Informationen entnehmen Sie bitte dem Flyer. \nTeilnahmegebühren\n€ 2.995\,00 Mitglied der Akademie\n€ 3.445\,00 Nichtmitglied der Akademie\n€ 2.545\,00 Arbeitslos/Elternzeit \nSollten Sie weitere Informationen benötigen\, kann Ihnen Falk Schröder von der der Akademie für medizinische Fortbildung kompetent weitere Informationen geben. \nMail: falk.schroeder@aekwl.de
URL:https://www.dzvhae.de/event/curriculare-fortbildung-homoeopathie-fuer-aerztinnen-und-aerzte/
LOCATION:Ärztekammer Westfalen Lippe\, Gartenstr. 210 - 214\, Münster\, Nordrhein-Westfalen\, 48147
CATEGORIES:Fortbildung präsenz
ORGANIZER;CN="Deutscher Zentralverein hom%C3%B6opathischer %C3%84rzte e.V.":MAILTO:arztservice@dzvhae.de
END:VEVENT
BEGIN:VEVENT
DTSTART;TZID=Europe/Berlin:20260110T090000
DTEND;TZID=Europe/Berlin:20261017T173000
DTSTAMP:20260424T012241
CREATED:20260105T131537Z
LAST-MODIFIED:20260105T131816Z
UID:10000276-1768035600-1792258200@www.dzvhae.de
SUMMARY:4 Miasmatische Samstage
DESCRIPTION:Die miasmatischen Samstage 2026 – online\nIn der täglichen Praxis bekommen wir immer wieder Fälle\, bei denen wir verzweifeln könnten.\nDie Miasmen sind oft so ineinander verflochten\, dass wir nicht mehr erkennen\, welches Miasma gerade aktiv ist.\nDie Behandlung scheint nicht vorwärts zu gehen. \nIn diesem „Case management für Profis“\, welches wir an vier kompletten Samstagen anbieten\, wollen wir deshalb speziell auf diese Problematik eingehen. Die Teilnehmer werden Sicherheit darin bekommen\, die Wechselwirkung der Miasmen beim Patienten nachzuvollziehen.\nSie werden lernen\, auch in schwierigen Fällen Zugänge zu finden\, die Miasmen gezielt zu behandeln\,\nohne dabei die Individualität des Patienten zu vernachlässigen.Ein besonderer Fokus liegt darauf\, sicher mit dem miasmatischen Konzept umzugehen.\nDabei werden Sie den größtmöglichen Gewinn aus der Teilnahme an den miasmatischen Samstagen erzielen\,\nwenn Sie die Fälle vor der gemeinsamen Analyse mit den Dozenten gründlich vorbereiten. \nSelbstverständlich haben die Teilnehmer die Möglichkeit\, ihre Fragen aus Ihrem Praxisalltag unterzubringen\nund es wird darüber hinaus ausreichend Zeit für kollegialen Austausch geben. \nFür wen sind „die miasmatischen Samstage – online“ gedacht?\nDieses Falltraining richtet sich nicht nur an die Absolventen der CvB-Akademie\, sondern auch an alle interessierten Homöopathen\,\ndie ihre homöopathischen Kenntnisse spezifisch erweitern und vertiefen wollen: \n\nAbsolventen der CvB-Akademie\nPraktizierende Homöopathen\nAbsolventen anderer Homöopathie-Schulen\nHomöopathen\, die sich weiter qualifizieren möchten\nBewerber für die zentrale Qualitätsprüfung\n\n\nDiese Schwerpunktthemen werden unter folgenden Aspekten behandelt:\n\nBesprechung der in der Praxis häufig vorkommenden Erkrankungen anhand von Kasuistiken\nderen miasmatische Einordnung und Dynamik\nprimär- und sekundärmiasmatische Zuordnungen\ntherapeutische Hinweise\, Tipps\, Erfahrungen\ngemeinsame Fallanalyse von Praxisfällen\nBesprechung typischer oder interessanter Mittel\n\nDie miasmatischen Samstage – Termine\nSamstag\, der 10. Januar\, 7. März\, 9. Mai\, 17.Oktober 2026
URL:https://www.dzvhae.de/event/4-miasmatische-samstage/
LOCATION:Online
CATEGORIES:Fortbildung online
ORGANIZER;CN="CvB-Clemens von B%C3%B6nninghausen Akademie f%C3%BCr Miasmatische Hom%C3%B6opathie":MAILTO:verwaltung@cvb-gesellschaft.de
END:VEVENT
BEGIN:VEVENT
DTSTART;TZID=Europe/Berlin:20260112T193000
DTEND;TZID=Europe/Berlin:20261207T220000
DTSTAMP:20260424T012241
CREATED:20260106T141906Z
LAST-MODIFIED:20260106T141906Z
UID:10000298-1768246200-1796680800@www.dzvhae.de
SUMMARY:Boger Werkstatt -  Berlin (hybrid)
DESCRIPTION:Flyer-Boger-Werkstatt-Dr.med_.Ch_.Tils-2026 \nTermine in 2026:\nMo 12.01.2026\nMo 23.02.2026\nMo 16.03.2026\nMo 20.04.2026\nMo 18.05.2026\nMo 15.06.2026\nMo 06.07.2026\nMo 24.08.2026\nMo 21.09.2026\nMo 19.10.2026\nMo 16.11.2026\nMo 07.12.2026\njew. von 19:30 – 22:00
URL:https://www.dzvhae.de/event/boger-werkstatt-berlin-hybrid/
LOCATION:Berliner Verein homöopathischer Ärzte e. V.\, Nassauische Straße 2\, Berlin\, Berlin\, 10717
CATEGORIES:Supervision
ORGANIZER;CN="Berliner Verein homopathischer %C3%84rzte e.V.":MAILTO:veranstaltungen@bvhae.de
END:VEVENT
BEGIN:VEVENT
DTSTART;TZID=Europe/Berlin:20260121T180000
DTEND;TZID=Europe/Berlin:20261209T200000
DTSTAMP:20260424T012241
CREATED:20260106T142901Z
LAST-MODIFIED:20260106T142901Z
UID:10000299-1769018400-1796846400@www.dzvhae.de
SUMMARY:Weiterbildungsreihe Homöopa-TIK: Theorie\, Intervision\, Konstruktion
DESCRIPTION:Flyer-Weiterbildungsreihe-Homoeopatik-2026 \nZunächst geplante Termine in 2026:\nMi 21.01.2026 um 18 bis 20 Uhr hybrid\nMi 11.03. 2026 um 18 bis 20 Uhr hybrid\nMi 22.04.2026 um 18 bis 20 Uhr hybrid\nMi 03.06.2026 um 18 bis 20 Uhr hybrid\nMi 02.09.2026 um 18 bis 20 Uhr hybrid\nMi 28.10.2026 um 18 bis 20 Uhr hybrid\nMi 09.12.2026 um 18 bis 20 Uhr hybrid
URL:https://www.dzvhae.de/event/weiterbildungsreihe-homoeopa-tik-theorie-intervision-konstruktion/
LOCATION:Berliner Verein homöopathischer Ärzte e. V.\, Nassauische Straße 2\, Berlin\, Berlin\, 10717
CATEGORIES:Supervision
ORGANIZER;CN="Berliner Verein homopathischer %C3%84rzte e.V.":MAILTO:veranstaltungen@bvhae.de
END:VEVENT
BEGIN:VEVENT
DTSTART;TZID=Europe/Berlin:20260124T100000
DTEND;TZID=Europe/Berlin:20280603T174500
DTSTAMP:20260424T012241
CREATED:20250902T084918Z
LAST-MODIFIED:20260121T211222Z
UID:10000097-1769248800-1843667100@www.dzvhae.de
SUMMARY:Drei Jahres Kurs Homöopathie -300 Stunden Fallseminare ab 2026
DESCRIPTION:Flyer DJK ab Herbst 2025 \nneuer Drei Jahres Kurs beim BVhÄ ab Herbst 2025  – jeweils 6 WE pro Ausbildungsjahr ( genaue Termine werden noch bekanntgegeben) \nNeueinstieg nach Absprache möglich
URL:https://www.dzvhae.de/event/drei-jahres-kurs-homoeopathie-300-stunden-fallseminare-ab-2025/
LOCATION:Berliner Verein homöopathischer Ärzte e. V.\, Nassauische Straße 2\, Berlin\, Berlin\, 10717
CATEGORIES:Fallseminar hybrid,Fallseminar online,Fallseminar präsenz
ORGANIZER;CN="Berliner Verein homopathischer %C3%84rzte e.V.":MAILTO:veranstaltungen@bvhae.de
END:VEVENT
BEGIN:VEVENT
DTSTART;TZID=Europe/Berlin:20260410T140000
DTEND;TZID=Europe/Berlin:20260425T180000
DTSTAMP:20260424T012241
CREATED:20251223T125925Z
LAST-MODIFIED:20251223T125925Z
UID:10000249-1775829600-1777140000@www.dzvhae.de
SUMMARY:The Big Blue - Heilmittel aus dem Ozean\, Sankaran- Methode\, mit Sigrid Lindemann
DESCRIPTION:Dieses Webinar charakterisiert die Mollusken – Muscheln\, Schneck und Kopffüssler\, dazu kommen Fallbeispiele zu den Gruppen der Meeressäuger und der Fische. Wir unternehmen einen Tauchgang in „eine ganz andere Welt“ – mit einer ganz ungewohnte Wahrnehmung und überraschenden Überlebensmechanismen. Wir werden auch Sankarans Perspektive der Subklassen und der Evolution der Tierwelt mit einbeziehen. Ich stelle spezifische Anamnesetechniken für die Mollusken vor\, incl die Arbeit mit Gesten. Insgesamt 5 x 5 Unterrichtsstunden\, 25 Stunden insgesamt\, verteilt auf zwei Wochenenden. 10 Videofälle \, Pathologien Schwere Depression\, chron. Magenschmerzen\, hormonelle Störung etc. Sigrid Lindemann unterrichtet die Empfindungsmethode seit 2004 mit Videoseminaren. Inzwischen hat sie 90 Videofälle und 15 verschiedene dreitägige Seminare zu verschiedenen Themen der Homöopathie zusammengestellt. Sigrid Lindemann ist Mitglied vom „World Institute of Sensation Homeopathy“ WISH https://www.wish4healing.net/ und bekannt durch ihre Fachartikel und Veröffentlichungen in der „Homöopathia Viva“ und „Spektrum der Homöopathie“. Sigrid Lindemann ist eine erfahrene Traumatherapeutin\, und hat ihre langjährige Erfahrung als Integrale Regressionstherapie\, eine höchst effektive Integration von Traumarbeit\, Innere Kind Arbeit\, Energiearbeit 10\, 11.\, 12. April und 24.\, 25. April (Frei 14- 18 Uhr\, Sam\, Son 9- 13 Uhr)
URL:https://www.dzvhae.de/event/the-big-blue-heilmittel-aus-dem-ozean-sankaran-methode-mit-sigrid-lindemann/
LOCATION:Online
CATEGORIES:Fortbildung online
ORGANIZER;CN="Sigrid Lindemann":MAILTO:sigridauroville@gmail.com
END:VEVENT
BEGIN:VEVENT
DTSTART;TZID=Europe/Berlin:20260422T090000
DTEND;TZID=Europe/Berlin:20260426T180000
DTSTAMP:20260424T012241
CREATED:20250903T102045Z
LAST-MODIFIED:20250903T102045Z
UID:10000132-1776848400-1777226400@www.dzvhae.de
SUMMARY:C-Kurs
DESCRIPTION:
URL:https://www.dzvhae.de/event/c-kurs/
LOCATION:Villa Leipzig\, Lessingstr. 7\, Leipzig\, Sachsen\, 04109\, Germany
CATEGORIES:C-Kurs
ORGANIZER;CN="Gesellschaft Hom%C3%B6opathischer %C3%84rzte in Sachsen und Sachsen-Anhalt e.V.":MAILTO:lv.sachsen@dzvhae.de
END:VEVENT
BEGIN:VEVENT
DTSTART;TZID=Europe/Berlin:20260422T090000
DTEND;TZID=Europe/Berlin:20260426T180000
DTSTAMP:20260424T012241
CREATED:20250903T102429Z
LAST-MODIFIED:20250903T102429Z
UID:10000133-1776848400-1777226400@www.dzvhae.de
SUMMARY:F-Kurs
DESCRIPTION:
URL:https://www.dzvhae.de/event/f-kurs/
LOCATION:Villa Leipzig\, Lessingstr. 7\, Leipzig\, Sachsen\, 04109\, Germany
CATEGORIES:F-Kurs
ORGANIZER;CN="Gesellschaft Hom%C3%B6opathischer %C3%84rzte in Sachsen und Sachsen-Anhalt e.V.":MAILTO:lv.sachsen@dzvhae.de
END:VEVENT
BEGIN:VEVENT
DTSTART;VALUE=DATE:20260423
DTEND;VALUE=DATE:20260427
DTSTAMP:20260424T012241
CREATED:20251218T140231Z
LAST-MODIFIED:20251218T140231Z
UID:10000217-1776902400-1777247999@www.dzvhae.de
SUMMARY:Dr. Paul Herscu Live Case- Conference 2026 in Freiburg\, Germany - Difficult Cases- Difficult Remedies?
DESCRIPTION:Paul-Herscu-2026 \nCONFERENCE DETAILS: Again\, we will meet in a small group of experienced homeopaths to see live- patients\, in which we struggled in our own practice. In this case conference we’ll explore aspects of polychrests which we didn’t recognize in our patients. We’ll learn about remedies that are very similar to our polychrests\, highlighting this time Lycopodium\, Pulsatilla and Aurum. So\, in the clinical setting\, we have more remedies at our fingertips including wonderful effective medicines that are often overlooked. As a highlight of the theoretical part Paul will discuss the DD of the main remedies for acute urinary tract infections\, a frequent situation in our practices where we need homeopathy to avoid potentially harmful other treatment. In analyzing the cases during the conference\, we will furthermore explore specific and essential rubrics of the repertory\, using differential materia medica\, to describe how people who need remedies in these rubrics actually present in practice. And for sure we will learn some new “remedy cycles” (If you have special needs here: please write us) Paul Herscu with his sublime knowledge and very specific “cycles and segments” view of homeopathy again will let us look over his shoulder and thus widen our skills in case analysis to help us with patient care. If you want to present a case at the conference – if chronic or acute- \, please make sure that the patient speaks English well enough (or please translate consecutively for her/him yourself. Probably again\, we’ll have the wonderful possibility to have Uta Schildwächter with us as a translator) and contact Andrea Weninger herscu-seminar@homoeopathie-in-freiburg.de.
URL:https://www.dzvhae.de/event/dr-paul-herscu-live-case-conference-2026-in-freiburg-germany-difficult-cases-difficult-remedies/
LOCATION:Green City Hotel Vauban\, Paula- Modersohn- Platz 5\, Freiburg\, 79100
CATEGORIES:Fortbildung präsenz
ORGANIZER;CN="Andrea Weninger":MAILTO:herscu-seminar@homoeopathie-in-freiburg.de
END:VEVENT
BEGIN:VEVENT
DTSTART;TZID=Europe/Berlin:20260424T090000
DTEND;TZID=Europe/Berlin:20260425T180000
DTSTAMP:20260424T012241
CREATED:20250903T102725Z
LAST-MODIFIED:20250929T115038Z
UID:10000134-1777021200-1777140000@www.dzvhae.de
SUMMARY:Supervisionskurs
DESCRIPTION:evtl. an einem anderen Ort
URL:https://www.dzvhae.de/event/supervisionskurs-2/
LOCATION:Tagungslounge\, Katharinenstraße 6\, Leipzig\, Sachsen\, 04109
CATEGORIES:Fortbildung präsenz,Supervision
ORGANIZER;CN="Gesellschaft Hom%C3%B6opathischer %C3%84rzte in Sachsen und Sachsen-Anhalt e.V.":MAILTO:lv.sachsen@dzvhae.de
END:VEVENT
BEGIN:VEVENT
DTSTART;TZID=Europe/Berlin:20260424T150000
DTEND;TZID=Europe/Berlin:20260425T180000
DTSTAMP:20260424T012241
CREATED:20260413T080133Z
LAST-MODIFIED:20260413T080133Z
UID:10000417-1777042800-1777140000@www.dzvhae.de
SUMMARY:The Evolution of Vertebrates - Seminar mit Doug Brown
DESCRIPTION:Wir freuen uns\, Doug Brown in Wien willkommen zu heißen! Die Seminarsprache ist vorwiegend englisch. Doug Brown spricht auch deutsch. Er wird seine Fälle auf englisch präsentieren\, Nachfragen sind bei Verständnisschwierigkeiten auf deutsch möglich. \nDoug wird Fallbeispiele aus der Welt der Fische\, Säugetiere\, Reptilien und Vögel vorstellen (z. B. Esox lucius\, den Zitteraal\, den Koala\, Eunectes (Anakonda)\, Corvus caurinus\, Accipiter gentilis)\, mit dem Ziel\, die unterschiedlichen Sichtweisen dieser großen Wirbeltier-Unterklassen verständlich zu machen. \nDarüber hinaus wird Doug einige interessante Pflanzenfälle präsentieren\, darunter Tsuga hetero­phylla (Westliche Hemlocktanne)\, Harpagophytum sowie den Farn Neolepisorus lancifolius\, und dabei die Komplementarität der Pflanzentheorien von Michal Yakir und Jan Scholten untersuchen.\n \n 
URL:https://www.dzvhae.de/event/the-evolution-of-vertebrates-seminar-mit-doug-brown/
LOCATION:ÖGHM\, Billrothstr.2/8.Stock\, Wien\, 1190\, Austria
CATEGORIES:Fortbildung hybrid,Fortbildung online,Fortbildung präsenz
ORGANIZER;CN="%C3%96GHM":MAILTO:sekretariat@homoeopathie.at
END:VEVENT
BEGIN:VEVENT
DTSTART;TZID=Europe/Berlin:20260424T173000
DTEND;TZID=Europe/Berlin:20260425T210000
DTSTAMP:20260424T012241
CREATED:20260115T122150Z
LAST-MODIFIED:20260115T122150Z
UID:10000316-1777051800-1777150800@www.dzvhae.de
SUMMARY:Meisterkurs "Geriatrie" - online - Teil 2 „Homöopathie bei Herz-\, Kreislauf- und neurologischen Erkrankungen im Alter“
DESCRIPTION:Bluthochdruck\nDie arterielle Hypertonie (Bluthochdruck) gilt als ein Risikofaktor für etliche schwere Erkrankungen. In ihrem Beginn gestaltet sie sich oft tückisch\, weil sie (scheinbar) ohne weitere Symptome oder Warnzeichen auftritt. Gerade die beginnende Hypertonie ist homöopathisch sehr gut behandelbar – zusammen mit einer gewissen Änderung des bisherigen Lebensstils. Hier ist das Eingreifen mit blutdrucksenkenden schulmedizinischen Arzneien nicht immer sinnvoll – auch deshalb\, weil damit die Fähigkeit des Organismus zur Eigenregulation verlernt wird. Im Seminar soll aufgezeigt werden\, welche praktischen Möglichkeiten wir haben\, wirkungsvoll zu therapieren. \nEs werden akute\, chronische und schwerere Fälle aus der Praxis vorgestellt\, bei denen es gelungen ist\, den hohen Blutdruck erfolgreich zu therapieren\, auch unter dem schrittweisen Absetzen allopathischer antihypertensiver Medikamente (was jedoch immer unter großer Vorsicht zu geschehen hat!) \nApoplex\, Demenz und neurologische Erkrankungen im Alter\nDie begleitende homöopathische Therapie bei Schlaganfall\, Demenz und anderen neurologischen Alters-Erkrankungen wird dargestellt. Methodisch wird die Fallanalyse und Repertorisation mit Bogers Synoptic Key und GA vermittelt\, anhand von Fällen das Vorgehen praktisch erläutert und eingeübt. Die Krankheitsbilder werden jeweils kurz eingeführt. 
URL:https://www.dzvhae.de/event/meisterkurs-geriatrie-online-teil-2-homoeopathie-bei-herz-kreislauf-und-neurologischen-erkrankungen-im-alter/2026-04-24/
CATEGORIES:Fortbildung online
ATTACH;FMTTYPE=image/jpeg:https://www.dzvhae.de/neu_2020/wp-content/uploads/2026/01/57E70D1B-6163-4EF9-A866-D23B2115C96B_1_102_o.jpeg
ORGANIZER;CN="CvB-Clemens von B%C3%B6nninghausen Akademie f%C3%BCr Miasmatische Hom%C3%B6opathie":MAILTO:verwaltung@cvb-gesellschaft.de
END:VEVENT
END:VCALENDAR