BEGIN:VCALENDAR
VERSION:2.0
PRODID:-//Deutscher Zentralverein homöopathischer Ärzte e.V. - ECPv6.15.20//NONSGML v1.0//EN
CALSCALE:GREGORIAN
METHOD:PUBLISH
X-WR-CALNAME:Deutscher Zentralverein homöopathischer Ärzte e.V.
X-ORIGINAL-URL:https://www.dzvhae.de
X-WR-CALDESC:Veranstaltungen für Deutscher Zentralverein homöopathischer Ärzte e.V.
REFRESH-INTERVAL;VALUE=DURATION:PT1H
X-Robots-Tag:noindex
X-PUBLISHED-TTL:PT1H
BEGIN:VTIMEZONE
TZID:Europe/Berlin
BEGIN:DAYLIGHT
TZOFFSETFROM:+0100
TZOFFSETTO:+0200
TZNAME:CEST
DTSTART:20230326T010000
END:DAYLIGHT
BEGIN:STANDARD
TZOFFSETFROM:+0200
TZOFFSETTO:+0100
TZNAME:CET
DTSTART:20231029T010000
END:STANDARD
BEGIN:DAYLIGHT
TZOFFSETFROM:+0100
TZOFFSETTO:+0200
TZNAME:CEST
DTSTART:20240331T010000
END:DAYLIGHT
BEGIN:STANDARD
TZOFFSETFROM:+0200
TZOFFSETTO:+0100
TZNAME:CET
DTSTART:20241027T010000
END:STANDARD
BEGIN:DAYLIGHT
TZOFFSETFROM:+0100
TZOFFSETTO:+0200
TZNAME:CEST
DTSTART:20250330T010000
END:DAYLIGHT
BEGIN:STANDARD
TZOFFSETFROM:+0200
TZOFFSETTO:+0100
TZNAME:CET
DTSTART:20251026T010000
END:STANDARD
BEGIN:DAYLIGHT
TZOFFSETFROM:+0100
TZOFFSETTO:+0200
TZNAME:CEST
DTSTART:20260329T010000
END:DAYLIGHT
BEGIN:STANDARD
TZOFFSETFROM:+0200
TZOFFSETTO:+0100
TZNAME:CET
DTSTART:20261025T010000
END:STANDARD
BEGIN:DAYLIGHT
TZOFFSETFROM:+0100
TZOFFSETTO:+0200
TZNAME:CEST
DTSTART:20270328T010000
END:DAYLIGHT
BEGIN:STANDARD
TZOFFSETFROM:+0200
TZOFFSETTO:+0100
TZNAME:CET
DTSTART:20271031T010000
END:STANDARD
BEGIN:DAYLIGHT
TZOFFSETFROM:+0100
TZOFFSETTO:+0200
TZNAME:CEST
DTSTART:20280326T010000
END:DAYLIGHT
BEGIN:STANDARD
TZOFFSETFROM:+0200
TZOFFSETTO:+0100
TZNAME:CET
DTSTART:20281029T010000
END:STANDARD
BEGIN:DAYLIGHT
TZOFFSETFROM:+0100
TZOFFSETTO:+0200
TZNAME:CEST
DTSTART:20290325T010000
END:DAYLIGHT
BEGIN:STANDARD
TZOFFSETFROM:+0200
TZOFFSETTO:+0100
TZNAME:CET
DTSTART:20291028T010000
END:STANDARD
BEGIN:DAYLIGHT
TZOFFSETFROM:+0100
TZOFFSETTO:+0200
TZNAME:CEST
DTSTART:20300331T010000
END:DAYLIGHT
BEGIN:STANDARD
TZOFFSETFROM:+0200
TZOFFSETTO:+0100
TZNAME:CET
DTSTART:20301027T010000
END:STANDARD
BEGIN:DAYLIGHT
TZOFFSETFROM:+0100
TZOFFSETTO:+0200
TZNAME:CEST
DTSTART:20310330T010000
END:DAYLIGHT
BEGIN:STANDARD
TZOFFSETFROM:+0200
TZOFFSETTO:+0100
TZNAME:CET
DTSTART:20311026T010000
END:STANDARD
END:VTIMEZONE
BEGIN:VEVENT
DTSTART;TZID=Europe/Berlin:20240101T090000
DTEND;TZID=Europe/Berlin:20300317T170000
DTSTAMP:20260420T114356
CREATED:20250828T065929Z
LAST-MODIFIED:20250929T084903Z
UID:10000086-1704099600-1899997200@www.dzvhae.de
SUMMARY:Fallseminare/ Supervision Homöopathie
DESCRIPTION:Anschreiben TN Termine 2024 und 2025 \n  \nWeiterbildungskurs Fallseminare und  \nSupervision Köln \n\nDie Termine werden vom DZVhÄ für die Erstausstellung und für die Erneuerung des Homöopathie- Diploms anerkannt.\n Einzeltermine sind ebenso buchbar\n\nTermine: Samstags von 09:00 bis 17:00 Uhr \n(je 8 Unterrichtsstunden = Diplompunkte) \n  \nBitte beachten Sie\, dass die Fallseminare online oder in Präsenz stattfinden können. Die Veranstalterin informiert im Vorfeld alle Teilnehmenden über den Veranstaltungsort zum jeweiligen Termin per Mail. Eine vorherige Anmeldung ist deswegen erforderlich.\n \nDie Termine finden Sie im Flyer zum Download. \nNähere Informationen erhalten Sie bei der Veranstalterin Frau Anne Rütten. \nKontakt:\nAnne Rütten\nWeststraße 99\n52134 Herzogenrath\n02407-6735\nanne.m.ruetten@web.de
URL:https://www.dzvhae.de/event/fallseminare-supervision-homoeopathie/
LOCATION:Online Supervision Anne- M. Rütten\, Weststraße 99\, Herzogenrath\, Nordrhein-Westfalen\, 52134
CATEGORIES:Fallseminar hybrid,Fallseminar online,Fallseminar präsenz,Supervision
END:VEVENT
BEGIN:VEVENT
DTSTART;VALUE=DATE:20250101
DTEND;VALUE=DATE:20260101
DTSTAMP:20260420T114356
CREATED:20250818T081631Z
LAST-MODIFIED:20250818T081631Z
UID:10000064-1735689600-1767225599@www.dzvhae.de
SUMMARY:Selbststudium AHZ
DESCRIPTION:Anerkannt wird das erfolgreich nachgewiesene Selbststudium der Allgemeinen Homöopathischen Zeitung (AHZ). Für einen entsprechenden Nachweis muss der in einer Ausgabe der AHZ veröffentlichte Fragenkatalog bestehend aus 10 Multiple-Choice-Fragen beantwortet und zu den dort bekanntgegebenen Bedingungen eingereicht werden. Einen Fortbildungspunkt erhält\, wer mindestens sechs Fragen korrekt beantwortet hat. Drei Fortbildungspunkte erhält\, wer alle Frage korrekt beantwortet hat. Link zum Testportal des DZVhÄ
URL:https://www.dzvhae.de/event/selbststudium-ahz/
LOCATION:AHZ\, Axel-Springer-Str. 54B\, Berlin\, Berlin\, 10117
ORGANIZER;CN="Deutscher Zentralverein hom%C3%B6opathischer %C3%84rzte e.V.":MAILTO:arztservice@dzvhae.de
END:VEVENT
BEGIN:VEVENT
DTSTART;TZID=Europe/Berlin:20250101T090000
DTEND;TZID=Europe/Berlin:20251231T173000
DTSTAMP:20260420T114356
CREATED:20250818T093016Z
LAST-MODIFIED:20250828T070700Z
UID:10000065-1735722000-1767202200@www.dzvhae.de
SUMMARY:Fallseminare Münster / Bocholt bei Dr. Angelika Czimmek
DESCRIPTION:Bitte entnehmen Sie die genauen Daten und die Inhalte der anhängenden PDF. Bitte beachten Sie eine aktuelle Terminänderung im September! \nBei Fragen wenden Sie sich bitte an die Veranstalterin Frau Dr. Czimmek.
URL:https://www.dzvhae.de/event/fallseminare-muenster-bocholt-bei-dr-angelika-czimmek/
LOCATION:Praxis Dr. Angelika Czimmek\, Weser Str. 18\, Bocholt\, Nordrhein-Westfalen\, 46395
CATEGORIES:Fallseminar hybrid,Fallseminar online,Fallseminar präsenz
END:VEVENT
BEGIN:VEVENT
DTSTART;TZID=Europe/Berlin:20250124T140000
DTEND;TZID=Europe/Berlin:20251212T190000
DTSTAMP:20260420T114356
CREATED:20250828T071115Z
LAST-MODIFIED:20250929T090720Z
UID:10000066-1737727200-1765566000@www.dzvhae.de
SUMMARY:Homöopathie-Konsil 2025 mit Tjado Galic in Berlin
DESCRIPTION:Das Konsil für Ärzte und HP findet an 6 Terminen im Jahr statt und eignet sich sowohl für erfahrene Kollegen und Kolleginnen als auch für Anfänger.
URL:https://www.dzvhae.de/event/homoeopathie-konsil-2025-mit-tjado-galic-in-berlin-2/
LOCATION:Aquariana Praxis- und Seminarzentrum\, Am Tempelhofer Berg 7D\, Berlin\, Berlin\, 10965
ORGANIZER;CN="Tjado Galic":MAILTO:konsil.berlin@gmail.com
END:VEVENT
BEGIN:VEVENT
DTSTART;TZID=Europe/Berlin:20250407T193000
DTEND;TZID=Europe/Berlin:20251208T220000
DTSTAMP:20260420T114356
CREATED:20250818T100648Z
LAST-MODIFIED:20251105T221442Z
UID:10000069-1744054200-1765231200@www.dzvhae.de
SUMMARY:Boger Werkstatt Supervision hybrid
DESCRIPTION:Flyer Boger Werkstatt Dr.med.Ch.Tils
URL:https://www.dzvhae.de/event/boger-werkstatt-supervision-hybrid/
LOCATION:Berliner Verein homöopathischer Ärzte e.V.\, Nassauische Straße 2\, Berlin\, Berlin\, 10717\, Germany
CATEGORIES:Supervision
ORGANIZER;CN="Berliner Verein homopathischer %C3%84rzte e.V.":MAILTO:veranstaltungen@bvhae.de
END:VEVENT
END:VCALENDAR